BEGIN:VCALENDAR
VERSION:2.0
PRODID:-//Sun Gospel Singers - ECPv6.15.20//NONSGML v1.0//EN
CALSCALE:GREGORIAN
METHOD:PUBLISH
X-WR-CALNAME:Sun Gospel Singers
X-ORIGINAL-URL:https://sungospelsingers.fr
X-WR-CALDESC:Évènements pour Sun Gospel Singers
REFRESH-INTERVAL;VALUE=DURATION:PT1H
X-Robots-Tag:noindex
X-PUBLISHED-TTL:PT1H
BEGIN:VTIMEZONE
TZID:Europe/Paris
BEGIN:DAYLIGHT
TZOFFSETFROM:+0100
TZOFFSETTO:+0200
TZNAME:CEST
DTSTART:20240331T010000
END:DAYLIGHT
BEGIN:STANDARD
TZOFFSETFROM:+0200
TZOFFSETTO:+0100
TZNAME:CET
DTSTART:20241027T010000
END:STANDARD
BEGIN:DAYLIGHT
TZOFFSETFROM:+0100
TZOFFSETTO:+0200
TZNAME:CEST
DTSTART:20250330T010000
END:DAYLIGHT
BEGIN:STANDARD
TZOFFSETFROM:+0200
TZOFFSETTO:+0100
TZNAME:CET
DTSTART:20251026T010000
END:STANDARD
BEGIN:DAYLIGHT
TZOFFSETFROM:+0100
TZOFFSETTO:+0200
TZNAME:CEST
DTSTART:20260329T010000
END:DAYLIGHT
BEGIN:STANDARD
TZOFFSETFROM:+0200
TZOFFSETTO:+0100
TZNAME:CET
DTSTART:20261025T010000
END:STANDARD
END:VTIMEZONE
BEGIN:VEVENT
DTSTART;TZID=Europe/Paris:20251018T080000
DTEND;TZID=Europe/Paris:20251019T170000
DTSTAMP:20260421T104952
CREATED:20250908T101215Z
LAST-MODIFIED:20250908T101215Z
UID:2650-1760774400-1760893200@sungospelsingers.fr
SUMMARY:Stage Gospel de rentrée
DESCRIPTION:  \nA QUOI S’ATTENDRE : \nLe 18 et 19 octobre 2025\, les Sun Gospel Singers proposent un stage Gospel de 2 jours sans hébergement animé par leur chef de chœur Zo’Okomo Thierry Ndinda\, artiste\, musicien\, chanteur professionnel. \nLes stages qui sont organisés régulièrement sont des moments privilégiés favorisant\, en plus du chant choral\, l’expression et le lâcher-prise. Ils permettent de faire des nouvelles rencontres\, de partager des valeurs communes\, d’exprimer aussi des fausses notes et des fous rires dans une ambiance conviviale et chaleureuse. \nCes stages ont toujours été appréciés et nombreux sont les membres actuels qui ont intégré la chorale au moment de l’un d’eux. \nLe Gospel a quelque chose de singulier que l’on ne retrouve pas ailleurs : au-delà du chant\, c’est un état d’esprit\, un art de vivre. \nQue vous ayez déjà une pratique confirmée du chant ou que vous pensiez ne pas savoir chanter\, que vous ayez déjà pratiquer du Gospel ou non\, vous serez le-la bienvenu-e. \nCe stage est un stage de rentrée qui vous introduira au répertoire de la chorale et à de nouvelles créations afin de préparer l’année à venir. Gospel et swing au programme ! \nTarif unique (non membres) :  70 € \nNombre de places limitées.
URL:https://sungospelsingers.fr/evenement/stage-gospel-de-rentree/
LOCATION:Salle paroissiale de l’église protestante Plobsheim\, 3 Rue de l'Église\, Plobsheim\, 67115
ATTACH;FMTTYPE=image/png:https://sungospelsingers.fr/wp-content/uploads/2025/09/Flyer-stage-OCT25.png
ORGANIZER;CN="Sun Gospel Singers":MAILTO:sungospelsingers@yahoo.fr
END:VEVENT
END:VCALENDAR